BEGIN:VCALENDAR
VERSION:2.0
PRODID:-//Department Of Education//89b500df-a3c1-4996-99b2-7aec3e87eb62
BEGIN:VTIMEZONE
TZID:Australia/Sydney
TZURL:http://tzurl.org/zoneinfo-outlook/Australia/Sydney
X-LIC-LOCATION:Australia/Sydney
BEGIN:STANDARD
TZOFFSETFROM:+1100
TZOFFSETTO:+1000
TZNAME:AEST
DTSTART:19700405T030000
RRULE:FREQ=YEARLY;BYMONTH=4;BYDAY=1SU
END:STANDARD
BEGIN:DAYLIGHT
TZOFFSETFROM:+1000
TZOFFSETTO:+1100
TZNAME:AEDT
DTSTART:19701004T020000
RRULE:FREQ=YEARLY;BYMONTH=10;BYDAY=1SU
END:DAYLIGHT
END:VTIMEZONE
CALSCALE:GREGORIAN
X-WR-TIMEZONE:Australia/Sydney
BEGIN:VEVENT
DTSTART;TZID=Australia/Sydney:20210222T085000
DTEND;TZID=Australia/Sydney:20210222T151000
DTSTAMP:20210222T000000Z
UID:6f89ca0f-9293-4f53-b23a-771d59641346
LOCATION:Sydney Olympic Park Aquatic Centre
SUMMARY;LANGUAGE=en-us:Zone Swimming Carnival
SEQUENCE:0
DESCRIPTION:Kuring Gai Zone Swimming Carnival
END:VEVENT
TRANSP:TRANSPARENT
END:VCALENDAR
