BEGIN:VCALENDAR
VERSION:2.0
PRODID:-//Department Of Education//40b1eaf6-246d-42df-9411-891db8cef15e
BEGIN:VTIMEZONE
TZID:Australia/Sydney
TZURL:http://tzurl.org/zoneinfo-outlook/Australia/Sydney
X-LIC-LOCATION:Australia/Sydney
BEGIN:STANDARD
TZOFFSETFROM:+1100
TZOFFSETTO:+1000
TZNAME:AEST
DTSTART:19700405T030000
RRULE:FREQ=YEARLY;BYMONTH=4;BYDAY=1SU
END:STANDARD
BEGIN:DAYLIGHT
TZOFFSETFROM:+1000
TZOFFSETTO:+1100
TZNAME:AEDT
DTSTART:19701004T020000
RRULE:FREQ=YEARLY;BYMONTH=10;BYDAY=1SU
END:DAYLIGHT
END:VTIMEZONE
CALSCALE:GREGORIAN
X-WR-TIMEZONE:Australia/Sydney
BEGIN:VEVENT
DTSTART;TZID=Australia/Sydney:20210208T085047
DTEND;TZID=Australia/Sydney:20210208T151052
DTSTAMP:20210208T000000Z
UID:603c7b24-751e-43cd-a000-2ae693bad886
LOCATION:Lane Cove Pool
SUMMARY;LANGUAGE=en-us:Swimming Carnival
SEQUENCE:0
DESCRIPTION:Chatswood High School Swimming Carnival
END:VEVENT
TRANSP:TRANSPARENT
END:VCALENDAR
