BEGIN:VCALENDAR
VERSION:2.0
PRODID:-//Department Of Education//f9cd8106-790c-4bfe-a40c-8501c2c91f21
BEGIN:VTIMEZONE
TZID:Australia/Sydney
TZURL:http://tzurl.org/zoneinfo-outlook/Australia/Sydney
X-LIC-LOCATION:Australia/Sydney
BEGIN:STANDARD
TZOFFSETFROM:+1100
TZOFFSETTO:+1000
TZNAME:AEST
DTSTART:19700405T030000
RRULE:FREQ=YEARLY;BYMONTH=4;BYDAY=1SU
END:STANDARD
BEGIN:DAYLIGHT
TZOFFSETFROM:+1000
TZOFFSETTO:+1100
TZNAME:AEDT
DTSTART:19701004T020000
RRULE:FREQ=YEARLY;BYMONTH=10;BYDAY=1SU
END:DAYLIGHT
END:VTIMEZONE
CALSCALE:GREGORIAN
X-WR-TIMEZONE:Australia/Sydney
BEGIN:VEVENT
DTSTART;TZID=Australia/Sydney:20210201T085000
DTEND;TZID=Australia/Sydney:20210201T151000
DTSTAMP:20210201T000000Z
UID:3c56874f-9479-4f92-b11c-f465121c3046
LOCATION:Chatswood High School
SUMMARY;LANGUAGE=en-us:School Returns - Yrs 8, 9 & 10
SEQUENCE:0
DESCRIPTION:First day Term 1 2021 for: Year 8 Year 9 & Year 10 All students to return to school
END:VEVENT
TRANSP:TRANSPARENT
END:VCALENDAR
