BEGIN:VCALENDAR
VERSION:2.0
PRODID:-//Department Of Education//61bcd87e-35f7-4b39-98a1-0b3f2128aeb7
BEGIN:VTIMEZONE
TZID:Australia/Sydney
TZURL:http://tzurl.org/zoneinfo-outlook/Australia/Sydney
X-LIC-LOCATION:Australia/Sydney
BEGIN:STANDARD
TZOFFSETFROM:+1100
TZOFFSETTO:+1000
TZNAME:AEST
DTSTART:19700405T030000
RRULE:FREQ=YEARLY;BYMONTH=4;BYDAY=1SU
END:STANDARD
BEGIN:DAYLIGHT
TZOFFSETFROM:+1000
TZOFFSETTO:+1100
TZNAME:AEDT
DTSTART:19701004T020000
RRULE:FREQ=YEARLY;BYMONTH=10;BYDAY=1SU
END:DAYLIGHT
END:VTIMEZONE
CALSCALE:GREGORIAN
X-WR-TIMEZONE:Australia/Sydney
BEGIN:VEVENT
DTSTART;VALUE=DATE:20210212
DTEND;VALUE=DATE:20210213
DTSTAMP:20210212T000000Z
UID:4804b3a1-d1f2-4e73-bcf2-bf5e4a40c1d5
LOCATION:School Hall
SUMMARY;LANGUAGE=en-us:School Photo Day
SEQUENCE:0
DESCRIPTION:Order online at: www.advancedlife.com.au Online Code: 68K BMC NPM
END:VEVENT
TRANSP:TRANSPARENT
END:VCALENDAR
