BEGIN:VCALENDAR
VERSION:2.0
PRODID:-//Department Of Education//be412fc0-497a-4590-9598-1e9236433435
BEGIN:VTIMEZONE
TZID:Australia/Sydney
TZURL:http://tzurl.org/zoneinfo-outlook/Australia/Sydney
X-LIC-LOCATION:Australia/Sydney
BEGIN:STANDARD
TZOFFSETFROM:+1100
TZOFFSETTO:+1000
TZNAME:AEST
DTSTART:19700405T030000
RRULE:FREQ=YEARLY;BYMONTH=4;BYDAY=1SU
END:STANDARD
BEGIN:DAYLIGHT
TZOFFSETFROM:+1000
TZOFFSETTO:+1100
TZNAME:AEDT
DTSTART:19701004T020000
RRULE:FREQ=YEARLY;BYMONTH=10;BYDAY=1SU
END:DAYLIGHT
END:VTIMEZONE
CALSCALE:GREGORIAN
X-WR-TIMEZONE:Australia/Sydney
BEGIN:VEVENT
DTSTART;TZID=Australia/Sydney:20210219T173000
DTEND;TZID=Australia/Sydney:20210221T143000
DTSTAMP:20210219T000000Z
UID:733f30b0-afbc-491b-ac98-2e634c212df2
LOCATION:Naamaroo
SUMMARY;LANGUAGE=en-us:Leadership Camp
SEQUENCE:0
DESCRIPTION:Selected Students only
END:VEVENT
TRANSP:TRANSPARENT
END:VCALENDAR
